BEGIN:VCALENDAR
VERSION:2.0
PRODID:-//Tauchsportcenter.de - ECPv6.15.15//NONSGML v1.0//EN
CALSCALE:GREGORIAN
METHOD:PUBLISH
X-WR-CALNAME:Tauchsportcenter.de
X-ORIGINAL-URL:https://tauchsportcenter.de
X-WR-CALDESC:Veranstaltungen für Tauchsportcenter.de
REFRESH-INTERVAL;VALUE=DURATION:PT1H
X-Robots-Tag:noindex
X-PUBLISHED-TTL:PT1H
BEGIN:VTIMEZONE
TZID:Europe/Berlin
BEGIN:DAYLIGHT
TZOFFSETFROM:+0100
TZOFFSETTO:+0200
TZNAME:CEST
DTSTART:20240331T010000
END:DAYLIGHT
BEGIN:STANDARD
TZOFFSETFROM:+0200
TZOFFSETTO:+0100
TZNAME:CET
DTSTART:20241027T010000
END:STANDARD
BEGIN:DAYLIGHT
TZOFFSETFROM:+0100
TZOFFSETTO:+0200
TZNAME:CEST
DTSTART:20250330T010000
END:DAYLIGHT
BEGIN:STANDARD
TZOFFSETFROM:+0200
TZOFFSETTO:+0100
TZNAME:CET
DTSTART:20251026T010000
END:STANDARD
BEGIN:DAYLIGHT
TZOFFSETFROM:+0100
TZOFFSETTO:+0200
TZNAME:CEST
DTSTART:20260329T010000
END:DAYLIGHT
BEGIN:STANDARD
TZOFFSETFROM:+0200
TZOFFSETTO:+0100
TZNAME:CET
DTSTART:20261025T010000
END:STANDARD
END:VTIMEZONE
BEGIN:VEVENT
DTSTART;VALUE=DATE:20251002
DTEND;VALUE=DATE:20251006
DTSTAMP:20260422T101026
CREATED:20250215T124715Z
LAST-MODIFIED:20250215T143134Z
UID:844-1759363200-1759708799@tauchsportcenter.de
SUMMARY:Tauchausfahrt Sundhäuser See
DESCRIPTION:Wir planen dieses Jahr wieder eine Ausfahrt nach Nordhausen (Thüringen)\, zum Sundhäuser See. \nDer See ist ca. 60 ha groß und hat eine maximale Tiefe von 31 Metern. Bedingt durch die Eimer-Fördertechnik beim ehemaligen Kiesabbau\, gibt es im See sehr schöne\, abwechslungsreiche Bodenformationen\, die einen wundervollen Pflanzenbewuchs hervorrufen\, der bis in die Tiefen von 20m reichen kann. \nFische findet man an unterschiedlichen Stellen. Bereits in einer Tiefe von zwei Metern schwimmen die ersten Schwärme von Barschen.\nHechte\, große Spiegelkarpfen\, Aale\, Regenbogenforellen\, Rotfedern\, Zander\, Grünlinge\, Bleien und Krebse kann man mit etwas Glück ebenfalls antreffen. \nIm See sind folgende Attraktionen versenkt worden: \n\n4 Boote (Motorboot\, 2 Segelboote\, 1 Fischerboot)\n7 Statuen die unterschiedliche Figuren darstellen\n1 Drachen\, der bei Sonnenschein mit leuchtenden Augen zu sehen ist\nDie kleine Unterwasserstadt Nordhusia\n\nDie Tauchbasis liegt direkt gegenüber des Einstieges 1. Dort kann man die Pressluftflaschen jederzeit füllen oder nach einem Tauchgang sich einfach bei einem Kaffee und Snacks stärken und erholen. \nVoraussetzung für die Teilnahme an der Ausfahrt:\nGültiges ärztliches Attest\, mindestens OWD und eigene Ausrüstung\, soweit vorhanden. Erforderliche Leihausrüstung muss vorab reserviert werden\, da diese nur begrenzt zur Verfügung steht. Mindestteilnehmeranzahl: 8 Personen \nUnterkunft:\nDie Übernachtung findet im Doppelzimmer oder wahlweise im Einzelzimmer statt. Das heißt\, ihr teilt euch das Doppelzimmer mit einem Tauchpartner oder wer möchte kann auch ein Einzelzimmer bekommen. Alle Zimmer verfügen über Dusche\, WC und TV. \nKosten:\nim Doppelzimmer: 340€ pro Person\nim Einzelzimmer: 390€ pro Person \nEnthaltene Leistungen:\n\n3 Nächte im Hotel & Restaurant „Zur Goldenen Aue“ (Doppelzimmer) inklusive Frühstück\n4 Tage Tauchgenehmigung im Sundhäuser See\nTour-Organisation & Guiding (wer möchte)\n\nMehrkosten:\nDie Flaschenfüllungen sind nicht im Preis inbegriffen und werden vor Ort im Tauchcenter Nordhausen beglichen. Erforderliche Leihausrüstung wird gem. der gültigen Preisliste für Leihausrüstungen berechnet.
URL:https://tauchsportcenter.de/event/tauchausfahrt-sundhaeuser-see/
LOCATION:Nordhausen\, Sundhäuser See\, Uthleber Weg 27\, Nordhausen\, Thüringen\, 99734\, Germany
CATEGORIES:Tauchausfahrten
ORGANIZER;CN="Tauchsportcenter.de":MAILTO:events@tauchsportcenter.de
END:VEVENT
END:VCALENDAR