BEGIN:VCALENDAR
VERSION:2.0
PRODID:-//Tauchsportcenter.de - ECPv6.15.15//NONSGML v1.0//EN
CALSCALE:GREGORIAN
METHOD:PUBLISH
X-WR-CALNAME:Tauchsportcenter.de
X-ORIGINAL-URL:https://tauchsportcenter.de
X-WR-CALDESC:Veranstaltungen für Tauchsportcenter.de
REFRESH-INTERVAL;VALUE=DURATION:PT1H
X-Robots-Tag:noindex
X-PUBLISHED-TTL:PT1H
BEGIN:VTIMEZONE
TZID:Europe/Berlin
BEGIN:DAYLIGHT
TZOFFSETFROM:+0100
TZOFFSETTO:+0200
TZNAME:CEST
DTSTART:20250330T010000
END:DAYLIGHT
BEGIN:STANDARD
TZOFFSETFROM:+0200
TZOFFSETTO:+0100
TZNAME:CET
DTSTART:20251026T010000
END:STANDARD
BEGIN:DAYLIGHT
TZOFFSETFROM:+0100
TZOFFSETTO:+0200
TZNAME:CEST
DTSTART:20260329T010000
END:DAYLIGHT
BEGIN:STANDARD
TZOFFSETFROM:+0200
TZOFFSETTO:+0100
TZNAME:CET
DTSTART:20261025T010000
END:STANDARD
BEGIN:DAYLIGHT
TZOFFSETFROM:+0100
TZOFFSETTO:+0200
TZNAME:CEST
DTSTART:20270328T010000
END:DAYLIGHT
BEGIN:STANDARD
TZOFFSETFROM:+0200
TZOFFSETTO:+0100
TZNAME:CET
DTSTART:20271031T010000
END:STANDARD
END:VTIMEZONE
BEGIN:VEVENT
DTSTART;VALUE=DATE:20260313
DTEND;VALUE=DATE:20260316
DTSTAMP:20260422T023234
CREATED:20250215T142509Z
LAST-MODIFIED:20260207T150434Z
UID:867-1773360000-1773619199@tauchsportcenter.de
SUMMARY:Open Water Diver (Anfängertauchkurs Kompakt)
DESCRIPTION:Wenn du dich schon immer gefragt hast\, was unter der Oberfläche zu finden ist\, ist jetzt die richtige Zeit\, das herauszufinden. Beginne die Reise deines Lebens mit dem PADI Open Water Diver Kurs\, sie wird dich für immer verändern. Im PADI Open Water Diver Kurs bringt dir dein PADI Instructor die Grundlagen des Gerätetauchens bei. Du fängst dabei in einem Schwimmbad oder unter ähnlichen Umgebungsbedingungen an und machst dann im Freiwasser (im Meer oder in einem See) weiter\, während du gleichzeitig das nötige Hintergrundwissen bekommst. Ein Taucher zu werden öffnet eine Tür zu einer ganz neuen Welt. Öffne deine und trete ein. \nKursüberblick:\nAnzahl der Tauchgänge: 5 Tauchgänge im Schwimmbad\, 4 Tauchgänge im Freiwasser\nErlangung des Theoriewissens: 5 Unterrichtseinheiten\nVoraussetzungen: 10 Jahre für den Junior Open Water Diver\, 15 Jahre für den Open Water Diver. Guter Gesundheitszustand\, angemessene körperliche Fitness. Wohlfühlen im Wasser\nBenötigte Materialien: PADI E-Learning OWD\, Logbuch\nAusrüstung\, die du u.a. im Kurs benutzen wirst: Maske\, Flossen\, Schnorchel\, Flasche\, Atemregler\, Tarierweste\, Finimeter und je nach Umgebung angemessene Tauchkleidung \nWenn Du schon immer mal wissen wolltest\, was sich unter der Wasseroberfläche verbirgt\, dann ist genau jetzt der richtige Zeitpunkt auf Entdeckungstour zu gehen. Unter der Wasseroberfläche wartet eine faszinierende und geheimnisvolle Welt auf Dich – mache den ersten Schritt und auch Du wirst begeistert sein. \nKosten\n549 € incl. E-Learning und Leihausrüstung (ohne Maske\, Schnorchel + Flossen)
URL:https://tauchsportcenter.de/event/open-water-diver-anfaengertauchkurs/
LOCATION:Tauchsportcenter Waldrems\, Donaustrasse 3\, Backnang\, Baden-Württemberg\, 71522\, Germany
CATEGORIES:Tauchkurse
ORGANIZER;CN="Tauchsportcenter.de":MAILTO:events@tauchsportcenter.de
END:VEVENT
END:VCALENDAR